BEGIN:VCALENDAR
VERSION:2.0
PRODID:-//ChamberMaster//Event Calendar 2.0//EN
METHOD:PUBLISH
X-PUBLISHED-TTL:P1H
REFRESH-INTERVAL:P1H
CALSCALE:GREGORIAN
BEGIN:VTIMEZONE
TZID:America/Toronto
BEGIN:DAYLIGHT
RRULE:FREQ=YEARLY;BYMONTH=3;BYDAY=2SU
DTSTART:20070101T000000
TZOFFSETFROM:-0500
TZOFFSETTO:-0400
TZNAME:Eastern Daylight Time
END:DAYLIGHT
BEGIN:STANDARD
RRULE:FREQ=YEARLY;BYMONTH=11;BYDAY=1SU
DTSTART:20070101T000000
TZOFFSETFROM:-0400
TZOFFSETTO:-0500
TZNAME:Eastern Standard Time
END:STANDARD
END:VTIMEZONE
BEGIN:VEVENT
DTSTART;TZID=America/Toronto:20260731T080000
DTEND;TZID=America/Toronto:20260731T160000
X-MICROSOFT-CDO-ALLDAYEVENT:FALSE
SUMMARY:2026 Golf Outing: Connie Valliere Tournament
DESCRIPTION:FORE! \nJoin us at Connie Valliere  Annual Golf Tournament at Sandy Ridge Golf Course- Midland.\nGrab your team and join us for a fun day on the greens for golf\,  food\, drinks\, games/prizes\, and  your chance at winning the Traveling Hulkin' HBA Trophy from Orvosh Builder while supporting  HBA Great Lakes Bay.
X-ALT-DESC;FMTTYPE=text/html:FORE! \nJoin us at Connie Valliere  Annual Golf Tournament at Sandy Ridge Golf Course- Midland.\nGrab your team and join us for a fun day on the greens for golf\,  food\, drinks\, games/prizes\, and  your chance at winning the Traveling Hulkin' HBA Trophy from Orvosh Builder while supporting  HBA Great Lakes Bay.
LOCATION:2750 Lauria Rd Midland MI 48642
UID:e.2976.1426624
SEQUENCE:3
DTSTAMP:20260422T050235Z
URL:https://homebuildersassociationofgreatlakesbayregion.growthzoneapp.com/events/Details/2026-golf-outing-connie-valliere-tournament-1687280?sourceTypeId=Hub
END:VEVENT
END:VCALENDAR
