BEGIN:VCALENDAR
VERSION:2.0
PRODID:-//ChamberMaster//Event Calendar 2.0//EN
METHOD:PUBLISH
X-PUBLISHED-TTL:P1H
REFRESH-INTERVAL:P1H
CALSCALE:GREGORIAN
BEGIN:VTIMEZONE
TZID:America/Toronto
BEGIN:DAYLIGHT
RRULE:FREQ=YEARLY;BYMONTH=3;BYDAY=2SU
DTSTART:20070101T000000
TZOFFSETFROM:-0500
TZOFFSETTO:-0400
TZNAME:Eastern Daylight Time
END:DAYLIGHT
BEGIN:STANDARD
RRULE:FREQ=YEARLY;BYMONTH=11;BYDAY=1SU
DTSTART:20070101T000000
TZOFFSETFROM:-0400
TZOFFSETTO:-0500
TZNAME:Eastern Standard Time
END:STANDARD
END:VTIMEZONE
BEGIN:VEVENT
DTSTART;TZID=America/Toronto:20260626T080000
DTEND;TZID=America/Toronto:20260626T160000
X-MICROSOFT-CDO-ALLDAYEVENT:FALSE
SUMMARY:2026 Golf Outing: Tony Bosco Scramble
DESCRIPTION:FORE! \nThe Annual Golf Outing at Twin Oaks is now the Tony Bosco Scramble! Grab your team and join us for a day of casual golf\, food\, drinks\, games\, prizes\, and more all while supporting  HBA Great Lakes Bay.
X-ALT-DESC;FMTTYPE=text/html:FORE! \nThe Annual Golf Outing at Twin Oaks is now the Tony Bosco Scramble! Grab your team and join us for a day of casual golf\, food\, drinks\, games\, prizes\, and more all while supporting  HBA Great Lakes Bay.
LOCATION:6710 Freeland Rd Freeland MI 48623
UID:e.2976.1426407
SEQUENCE:3
DTSTAMP:20260422T050236Z
URL:https://homebuildersassociationofgreatlakesbayregion.growthzoneapp.com/events/Details/2026-golf-outing-tony-bosco-scramble-1687079?sourceTypeId=Hub
END:VEVENT
END:VCALENDAR
